BEGIN:VCALENDAR
VERSION:2.0
PRODID:-//ChamberMaster//Event Calendar 2.0//EN
METHOD:PUBLISH
X-PUBLISHED-TTL:P3D
REFRESH-INTERVAL:P3D
CALSCALE:GREGORIAN
BEGIN:VEVENT
DTSTART:20250222T010000Z
DTEND:20250222T050000Z
X-MICROSOFT-CDO-ALLDAYEVENT:FALSE
SUMMARY:Casino Night 2025
DESCRIPTION:This Night Supports Scholarship Opportunities for the Benefit of Engineering & Construction Management Students.  This is a great opportunity to enjoying great food and have awesome fun\, with an opportunity to win great prizes and help to generate valuable funds for the Associated Contractors of New Mexico Transportation Industry Scholarship?.
X-ALT-DESC;FMTTYPE=text/html:<span style="font-size:18px\;"><span style="color: rgb(51\, 51\, 51)\; font-family: sans-serif\, Arial\, Verdana\, &quot\;Trebuchet MS&quot\;\;"><span style="font-weight: bold\;">This&nbsp\;Night Supports Scholarship Opportunities for the Benefit of Engineering &amp\; Construction Management Students.&nbsp\;&nbsp\;</span>This is a great opportunity to enjoying great food and have awesome fun\, with an opportunity to win great prizes and help to generate valuable funds for the Associated Contractors of New Mexico Transportation Industry Scholarship?.</span></span>
LOCATION:Embassy Suites 1000 Woodward Pl. NE Albuquerque\, NM 87102
UID:e.9562.328
SEQUENCE:3
DTSTAMP:20260423T070928Z
URL:http://members.aconm.org/events/details/casino-night-2025-328
END:VEVENT

END:VCALENDAR
